BEGIN:VCALENDAR
VERSION:2.0
PRODID:-//Vitteaux - ECPv5.16.1//NONSGML v1.0//EN
CALSCALE:GREGORIAN
METHOD:PUBLISH
X-WR-CALNAME:Vitteaux
X-ORIGINAL-URL:https://www.vitteaux.fr
X-WR-CALDESC:évènements pour Vitteaux
BEGIN:VTIMEZONE
TZID:Europe/Paris
BEGIN:DAYLIGHT
TZOFFSETFROM:+0100
TZOFFSETTO:+0200
TZNAME:CEST
DTSTART:20230326T010000
END:DAYLIGHT
BEGIN:STANDARD
TZOFFSETFROM:+0200
TZOFFSETTO:+0100
TZNAME:CET
DTSTART:20231029T010000
END:STANDARD
END:VTIMEZONE
BEGIN:VEVENT
DTSTART;TZID=Europe/Paris:20230629T190000
DTEND;TZID=Europe/Paris:20230629T200000
DTSTAMP:20260420T025610
CREATED:20230603T153443Z
LAST-MODIFIED:20230603T153443Z
UID:6577-1688065200-1688068800@www.vitteaux.fr
SUMMARY:Yoga du rire
DESCRIPTION:
URL:https://www.vitteaux.fr/evenement/yoga-du-rire-3/
LOCATION:Salle de l’ancienne école maternelle\, Rue Edmé Millot\, Vitteaux\, 21350
ORGANIZER;CN="Association%20Familles%20Rurales":MAILTO:afr21350@gmail.com
END:VEVENT
END:VCALENDAR