BEGIN:VCALENDAR
VERSION:2.0
PRODID:-//Vitteaux - ECPv5.16.1//NONSGML v1.0//EN
CALSCALE:GREGORIAN
METHOD:PUBLISH
X-WR-CALNAME:Vitteaux
X-ORIGINAL-URL:https://www.vitteaux.fr
X-WR-CALDESC:évènements pour Vitteaux
BEGIN:VTIMEZONE
TZID:Europe/Paris
BEGIN:DAYLIGHT
TZOFFSETFROM:+0100
TZOFFSETTO:+0200
TZNAME:CEST
DTSTART:20250330T010000
END:DAYLIGHT
BEGIN:STANDARD
TZOFFSETFROM:+0200
TZOFFSETTO:+0100
TZNAME:CET
DTSTART:20251026T010000
END:STANDARD
END:VTIMEZONE
BEGIN:VEVENT
DTSTART;TZID=Europe/Paris:20251102T090000
DTEND;TZID=Europe/Paris:20251102T170000
DTSTAMP:20260423T110758
CREATED:20251014T202113Z
LAST-MODIFIED:20251025T182939Z
UID:10415-1762074000-1762102800@www.vitteaux.fr
SUMMARY:Vide-penderie
DESCRIPTION:L’Association Familles Rurales de Vitteaux organise son traditionnel vide penderie le dimanche 2 novembre de 9h à 17h à l’espace Gilbert MATHIEU (salle polyvalente).
URL:https://www.vitteaux.fr/evenement/vide-penderie-2/
LOCATION:Salle polyvalente\, 6 Chemin des Dames\, VITTEAUX\, Cote d'or\, 21350\, France
CATEGORIES:Manifestation
ORGANIZER;CN="Association%20Familles%20Rurales":MAILTO:afr21350@gmail.com
END:VEVENT
END:VCALENDAR