BEGIN:VCALENDAR
VERSION:2.0
PRODID:-//Vitteaux - ECPv5.16.1//NONSGML v1.0//EN
CALSCALE:GREGORIAN
METHOD:PUBLISH
X-WR-CALNAME:Vitteaux
X-ORIGINAL-URL:https://www.vitteaux.fr
X-WR-CALDESC:évènements pour Vitteaux
BEGIN:VTIMEZONE
TZID:Europe/Paris
BEGIN:DAYLIGHT
TZOFFSETFROM:+0100
TZOFFSETTO:+0200
TZNAME:CEST
DTSTART:20230326T010000
END:DAYLIGHT
BEGIN:STANDARD
TZOFFSETFROM:+0200
TZOFFSETTO:+0100
TZNAME:CET
DTSTART:20231029T010000
END:STANDARD
END:VTIMEZONE
BEGIN:VEVENT
DTSTART;VALUE=DATE:20230910
DTEND;VALUE=DATE:20230911
DTSTAMP:20260423T012248
CREATED:20230721T125542Z
LAST-MODIFIED:20230721T131208Z
UID:6770-1694304000-1694390399@www.vitteaux.fr
SUMMARY:Vide-grenier de la Cergondine
DESCRIPTION:La La Cergondine est une association créée au sein de l’EHPAD de VITTEAUX pour valoriser le travail réalisé par les résidents de l’établissement tout au long de l’année en organisant différentes manifestations. L’objectif est\, entre autres\, de récolter des fonds pour organiser des animations et des sorties pour les résidents. \n 
URL:https://www.vitteaux.fr/evenement/vide-grenier-de-la-cergondine/
ORGANIZER;CN="La%20Cergondine":MAILTO:cergondine@gmail.com
END:VEVENT
END:VCALENDAR