BEGIN:VCALENDAR
VERSION:2.0
PRODID:-//Vitteaux - ECPv5.16.1//NONSGML v1.0//EN
CALSCALE:GREGORIAN
METHOD:PUBLISH
X-WR-CALNAME:Vitteaux
X-ORIGINAL-URL:https://www.vitteaux.fr
X-WR-CALDESC:évènements pour Vitteaux
BEGIN:VTIMEZONE
TZID:Europe/Paris
BEGIN:DAYLIGHT
TZOFFSETFROM:+0100
TZOFFSETTO:+0200
TZNAME:CEST
DTSTART:20240331T010000
END:DAYLIGHT
BEGIN:STANDARD
TZOFFSETFROM:+0200
TZOFFSETTO:+0100
TZNAME:CET
DTSTART:20241027T010000
END:STANDARD
END:VTIMEZONE
BEGIN:VEVENT
DTSTART;TZID=Europe/Paris:20240908T080000
DTEND;TZID=Europe/Paris:20240908T170000
DTSTAMP:20260421T101949
CREATED:20240729T075236Z
LAST-MODIFIED:20240729T075347Z
UID:8869-1725782400-1725814800@www.vitteaux.fr
SUMMARY:Vide-grenier de la Cergondine
DESCRIPTION:La Cergondine organise son 2e vide-grenier le dimanche 8 septembre\, place du Dr Quignard\, de 8h à 17h. \nLa Cergondine est une association créée en 2023 à l’initiative des agents de l’EHPAD de VITTEAUX. Elle a pour but de récolter des fonds afin d’organiser des animations et d’acheter du matériel pour les résidents de l’établissement. \n  \n 
URL:https://www.vitteaux.fr/evenement/vide-grenier-de-la-cergondine-2/
LOCATION:Place du Docteur Maurice QUIGNARD\, Place du Dr Quignard\, VITTEAUX\, 21350\, France
ORGANIZER;CN="La%20Cergondine":MAILTO:cergondine@gmail.com
END:VEVENT
END:VCALENDAR