BEGIN:VCALENDAR
VERSION:2.0
PRODID:-//Vitteaux - ECPv5.16.1//NONSGML v1.0//EN
CALSCALE:GREGORIAN
METHOD:PUBLISH
X-WR-CALNAME:Vitteaux
X-ORIGINAL-URL:https://www.vitteaux.fr
X-WR-CALDESC:évènements pour Vitteaux
BEGIN:VTIMEZONE
TZID:Europe/Paris
BEGIN:DAYLIGHT
TZOFFSETFROM:+0100
TZOFFSETTO:+0200
TZNAME:CEST
DTSTART:20240331T010000
END:DAYLIGHT
BEGIN:STANDARD
TZOFFSETFROM:+0200
TZOFFSETTO:+0100
TZNAME:CET
DTSTART:20241027T010000
END:STANDARD
END:VTIMEZONE
BEGIN:VEVENT
DTSTART;VALUE=DATE:20240127
DTEND;VALUE=DATE:20240128
DTSTAMP:20260423T045843
CREATED:20231227T204109Z
LAST-MODIFIED:20231227T204658Z
UID:7762-1706313600-1706399999@www.vitteaux.fr
SUMMARY:Sortie ski de l'AFR
DESCRIPTION:L’AFR de VITTEAUX organise une sortie ski aux Jouvencelles le samedi 27 janvier. \nRenseignements au 06 80 74 88 07 ou par mail à  afr21350@gmail.com \nPlus d’informations sur la page facebook de l’AFR ici \n 
URL:https://www.vitteaux.fr/evenement/sortie-ski-afr-2/
ORGANIZER;CN="Association%20Familles%20Rurales":MAILTO:afr21350@gmail.com
END:VEVENT
END:VCALENDAR