BEGIN:VCALENDAR
VERSION:2.0
PRODID:-//Vitteaux - ECPv5.16.1//NONSGML v1.0//EN
CALSCALE:GREGORIAN
METHOD:PUBLISH
X-WR-CALNAME:Vitteaux
X-ORIGINAL-URL:https://www.vitteaux.fr
X-WR-CALDESC:évènements pour Vitteaux
BEGIN:VTIMEZONE
TZID:Europe/Paris
BEGIN:DAYLIGHT
TZOFFSETFROM:+0100
TZOFFSETTO:+0200
TZNAME:CEST
DTSTART:20240331T010000
END:DAYLIGHT
BEGIN:STANDARD
TZOFFSETFROM:+0200
TZOFFSETTO:+0100
TZNAME:CET
DTSTART:20241027T010000
END:STANDARD
END:VTIMEZONE
BEGIN:VEVENT
DTSTART;TZID=Europe/Paris:20240302T193000
DTEND;TZID=Europe/Paris:20240302T193000
DTSTAMP:20260422T193229
CREATED:20240207T170309Z
LAST-MODIFIED:20240207T171505Z
UID:7991-1709407800-1709407800@www.vitteaux.fr
SUMMARY:Soirée spectacle avec Gérald DAHAN
DESCRIPTION:L’association Les Enfants Terribles organise une soirée spectacle de gala le samedi 2 mars 2023 à partir de 19h30 à PRECY-SOUS-THIL (espace de rencontres et de loisirs) avec le nouveau spectacle « Gérald DAHAN tombe les masques » de Gérald DAHAN\, imitateur de renommée nationale ! \nLes jumeaux du rock\, Jess and West\, passés par l’émission The Voice\, assureront une première partie musicale de la soirée. \nEn raison des travaux au complexe polyvalent de VITTEAUX\, la soirée aura lieu exceptionnellement à l’espace de rencontres et de loisirs de PRECY-SOUS-THIL (26 route de semur-en-Auxois) \nEntrée + buffet « 100% Côte-d’Or » : 25 € \nRéservation à l’office de tourisme des Terres d’Auxois (bureaux de VITTEAUX\, PRECY-SOUS-THIL et SEMUR-EN-AUXOIS) ou au 06 24 15 92 16
URL:https://www.vitteaux.fr/evenement/soiree-spectacle-avec-gerald-dahan/
ORGANIZER;CN="Les%20Enfants%20Terribles":MAILTO:lesenfantsterriblesdevitteaux@gmail.com
END:VEVENT
END:VCALENDAR