BEGIN:VCALENDAR
VERSION:2.0
PRODID:-//Vitteaux - ECPv5.16.1//NONSGML v1.0//EN
CALSCALE:GREGORIAN
METHOD:PUBLISH
X-WR-CALNAME:Vitteaux
X-ORIGINAL-URL:https://www.vitteaux.fr
X-WR-CALDESC:évènements pour Vitteaux
BEGIN:VTIMEZONE
TZID:Europe/Paris
BEGIN:DAYLIGHT
TZOFFSETFROM:+0100
TZOFFSETTO:+0200
TZNAME:CEST
DTSTART:20220327T010000
END:DAYLIGHT
BEGIN:STANDARD
TZOFFSETFROM:+0200
TZOFFSETTO:+0100
TZNAME:CET
DTSTART:20221030T010000
END:STANDARD
END:VTIMEZONE
BEGIN:VEVENT
DTSTART;TZID=Europe/Paris:20221119T180000
DTEND;TZID=Europe/Paris:20221119T210000
DTSTAMP:20260426T023356
CREATED:20221026T184844Z
LAST-MODIFIED:20221119T085426Z
UID:5224-1668880800-1668891600@www.vitteaux.fr
SUMMARY:Soirée jeux Bibliothèque
DESCRIPTION:La bibliothèque organise une soirée Jeux le samedi 19 novembre de 18h à 21h. \nL’occasion de se retrouver dans un moment de convivialité et de bonne humeur autour de jeux de société. Venez seuls\, à deux\, en famille\,  quand vous voulez\, le temps que vous voulez… Les jeux de société\, pour tous les âges\, pour tous les goûts sont prêtés par Lud’aux à Semur.
URL:https://www.vitteaux.fr/evenement/soiree-jeux-bibliotheque/
LOCATION:Médiathèque\, 21 rue de l Hotel de Ville\, VITTEAUX\, 21350\, France
ORGANIZER;CN="M%C3%A9diath%C3%A8que":MAILTO:bibliotheque-vitteaux@wanadoo.fr
END:VEVENT
END:VCALENDAR