BEGIN:VCALENDAR
VERSION:2.0
PRODID:-//Vitteaux - ECPv5.16.1//NONSGML v1.0//EN
CALSCALE:GREGORIAN
METHOD:PUBLISH
X-WR-CALNAME:Vitteaux
X-ORIGINAL-URL:https://www.vitteaux.fr
X-WR-CALDESC:évènements pour Vitteaux
BEGIN:VTIMEZONE
TZID:Europe/Paris
BEGIN:DAYLIGHT
TZOFFSETFROM:+0100
TZOFFSETTO:+0200
TZNAME:CEST
DTSTART:20230326T010000
END:DAYLIGHT
BEGIN:STANDARD
TZOFFSETFROM:+0200
TZOFFSETTO:+0100
TZNAME:CET
DTSTART:20231029T010000
END:STANDARD
END:VTIMEZONE
BEGIN:VEVENT
DTSTART;TZID=Europe/Paris:20231118T180000
DTEND;TZID=Europe/Paris:20231118T180000
DTSTAMP:20260420T030342
CREATED:20231112T085132Z
LAST-MODIFIED:20231112T085556Z
UID:7482-1700330400-1700330400@www.vitteaux.fr
SUMMARY:Soirée Jeux à la médiathèque
DESCRIPTION:Comme chaque 3ème samedi du mois\, la médiathèque organise une soirée Jeux ouverte à tous. \nLa prochaine rencontre aura lieu ce samedi 18 novembre à partir de 18h jusqu’à … parfois assez tard dans la soirée. \nTout le monde est le bienvenu\, débutant\, confirmé\, passionné ou simplement curieux\, seul\, à deux\, en famille pour une\, deux ou trois heures\, ou simplement un petit tour par curiosité. \nInstallez-vous à une table et participez au jeu\, il y a un très grand choix.\nOn vous expliquera les règles\, c’est très simple et amusant. \nVous pouvez apporter un casse-croûte\, de quoi vous restaurer
URL:https://www.vitteaux.fr/evenement/soiree-jeux-a-la-mediatheque-2/
LOCATION:Médiathèque\, 21 rue de l Hotel de Ville\, VITTEAUX\, 21350\, France
ORGANIZER;CN="M%C3%A9diath%C3%A8que":MAILTO:bibliotheque-vitteaux@wanadoo.fr
END:VEVENT
END:VCALENDAR