BEGIN:VCALENDAR
VERSION:2.0
PRODID:-//Vitteaux - ECPv5.16.1//NONSGML v1.0//EN
CALSCALE:GREGORIAN
METHOD:PUBLISH
X-WR-CALNAME:Vitteaux
X-ORIGINAL-URL:https://www.vitteaux.fr
X-WR-CALDESC:évènements pour Vitteaux
BEGIN:VTIMEZONE
TZID:Europe/Paris
BEGIN:DAYLIGHT
TZOFFSETFROM:+0100
TZOFFSETTO:+0200
TZNAME:CEST
DTSTART:20230326T010000
END:DAYLIGHT
BEGIN:STANDARD
TZOFFSETFROM:+0200
TZOFFSETTO:+0100
TZNAME:CET
DTSTART:20231029T010000
END:STANDARD
END:VTIMEZONE
BEGIN:VEVENT
DTSTART;TZID=Europe/Paris:20230218T180000
DTEND;TZID=Europe/Paris:20230218T210000
DTSTAMP:20260425T212316
CREATED:20230210T194746Z
LAST-MODIFIED:20230210T195018Z
UID:6015-1676743200-1676754000@www.vitteaux.fr
SUMMARY:Soirée Jeux à la bibliothèque
DESCRIPTION:La médiathèque poursuit ses rendez-vous mensuels avec des soirées « Jeux de société » le 3e samedi de chaque mois. \nRendez-vous le samedi 18 février de 18h à 21h à la médiathèque. \nPeu importe votre niveau \nPeu importe que vous soyez seul\, à deux\, en famille… \nPeu importe le temps que vous restez… \nVenez à la médiathèque\, installez-vous à une table et jouez ! \nVous pouvez apporter de quoi vous restaurer. \n 
URL:https://www.vitteaux.fr/evenement/soiree-jeux-a-la-bibliotheque-2/
LOCATION:Médiathèque\, 21 rue de l Hotel de Ville\, VITTEAUX\, 21350\, France
END:VEVENT
END:VCALENDAR