BEGIN:VCALENDAR
VERSION:2.0
PRODID:-//Vitteaux - ECPv5.16.1//NONSGML v1.0//EN
CALSCALE:GREGORIAN
METHOD:PUBLISH
X-WR-CALNAME:Vitteaux
X-ORIGINAL-URL:https://www.vitteaux.fr
X-WR-CALDESC:évènements pour Vitteaux
BEGIN:VTIMEZONE
TZID:Europe/Paris
BEGIN:DAYLIGHT
TZOFFSETFROM:+0100
TZOFFSETTO:+0200
TZNAME:CEST
DTSTART:20220327T010000
END:DAYLIGHT
BEGIN:STANDARD
TZOFFSETFROM:+0200
TZOFFSETTO:+0100
TZNAME:CET
DTSTART:20221030T010000
END:STANDARD
END:VTIMEZONE
BEGIN:VEVENT
DTSTART;TZID=Europe/Paris:20221203T190000
DTEND;TZID=Europe/Paris:20221203T190000
DTSTAMP:20260426T010141
CREATED:20221024T145800Z
LAST-MODIFIED:20221024T150155Z
UID:5193-1670094000-1670094000@www.vitteaux.fr
SUMMARY:Soirée Cabaret
DESCRIPTION:L’association Les Enfants Terribles organise sa soirée Cabaret annuelle le samedi 3 décembre à 19h à la salle polyvalente. \nRéservation au 06 24 15 92 16 \n \n 
URL:https://www.vitteaux.fr/evenement/soiree-cabaret/
LOCATION:Salle polyvalente\, 6 Chemin des Dames\, VITTEAUX\, Cote d'or\, 21350\, France
ORGANIZER;CN="Les%20Enfants%20Terribles":MAILTO:lesenfantsterriblesdevitteaux@gmail.com
END:VEVENT
END:VCALENDAR