BEGIN:VCALENDAR
VERSION:2.0
PRODID:-//Vitteaux - ECPv5.16.1//NONSGML v1.0//EN
CALSCALE:GREGORIAN
METHOD:PUBLISH
X-WR-CALNAME:Vitteaux
X-ORIGINAL-URL:https://www.vitteaux.fr
X-WR-CALDESC:évènements pour Vitteaux
BEGIN:VTIMEZONE
TZID:Europe/Paris
BEGIN:DAYLIGHT
TZOFFSETFROM:+0100
TZOFFSETTO:+0200
TZNAME:CEST
DTSTART:20230326T010000
END:DAYLIGHT
BEGIN:STANDARD
TZOFFSETFROM:+0200
TZOFFSETTO:+0100
TZNAME:CET
DTSTART:20231029T010000
END:STANDARD
END:VTIMEZONE
BEGIN:VEVENT
DTSTART;TZID=Europe/Paris:20231118T093000
DTEND;TZID=Europe/Paris:20231118T130000
DTSTAMP:20260420T011447
CREATED:20231028T091059Z
LAST-MODIFIED:20231028T091242Z
UID:7374-1700299800-1700312400@www.vitteaux.fr
SUMMARY:Salon "Grandir en Haute Côte-d'Or"
DESCRIPTION:
URL:https://www.vitteaux.fr/evenement/salon-grandir-en-haute-cote-dor/
LOCATION:Communauté de communes des Terres d’Auxois\, 3 place de la Gare\, SEMUR-EN-AUXOIS\, 21140\, France
ORGANIZER;CN="Communaut%C3%A9%20des%20Communes%20des%20Terres%20d%27Auxois":MAILTO:contact@ccterres-auxois.fr
END:VEVENT
END:VCALENDAR