BEGIN:VCALENDAR
VERSION:2.0
PRODID:-//Vitteaux - ECPv5.16.1//NONSGML v1.0//EN
CALSCALE:GREGORIAN
METHOD:PUBLISH
X-WR-CALNAME:Vitteaux
X-ORIGINAL-URL:https://www.vitteaux.fr
X-WR-CALDESC:évènements pour Vitteaux
BEGIN:VTIMEZONE
TZID:Europe/Paris
BEGIN:DAYLIGHT
TZOFFSETFROM:+0100
TZOFFSETTO:+0200
TZNAME:CEST
DTSTART:20230326T010000
END:DAYLIGHT
BEGIN:STANDARD
TZOFFSETFROM:+0200
TZOFFSETTO:+0100
TZNAME:CET
DTSTART:20231029T010000
END:STANDARD
END:VTIMEZONE
BEGIN:VEVENT
DTSTART;TZID=Europe/Paris:20230521T090000
DTEND;TZID=Europe/Paris:20230521T180000
DTSTAMP:20260421T010447
CREATED:20230405T161337Z
LAST-MODIFIED:20230516T132148Z
UID:6300-1684659600-1684692000@www.vitteaux.fr
SUMMARY:Foire aux vins
DESCRIPTION:En raison des travaux de l’espace Gilbert Mathieu (salle polyvalente et gymnase)\, le salon des vignobles organisé chaque année par l’Union Commerciale\, Industrielle et Artisanale est remplacé en 2023 par une foire aux vins sous barnum au parc municipal (route d’Avallon).
URL:https://www.vitteaux.fr/evenement/salon-des-vignobles/
LOCATION:Parc municipal\, route d'avallon\, vitteaux\, 21350\, France
CATEGORIES:Manifestation
ORGANIZER;CN="Union%20Commerciale%20Industrielle%20Artisanale%20de%20Vitteaux":MAILTO:ucia.vitteaux@gmail.com
END:VEVENT
END:VCALENDAR