BEGIN:VCALENDAR
VERSION:2.0
PRODID:-//Vitteaux - ECPv5.16.1//NONSGML v1.0//EN
CALSCALE:GREGORIAN
METHOD:PUBLISH
X-WR-CALNAME:Vitteaux
X-ORIGINAL-URL:https://www.vitteaux.fr
X-WR-CALDESC:évènements pour Vitteaux
BEGIN:VTIMEZONE
TZID:Europe/Paris
BEGIN:DAYLIGHT
TZOFFSETFROM:+0100
TZOFFSETTO:+0200
TZNAME:CEST
DTSTART:20220327T010000
END:DAYLIGHT
BEGIN:STANDARD
TZOFFSETFROM:+0200
TZOFFSETTO:+0100
TZNAME:CET
DTSTART:20221030T010000
END:STANDARD
END:VTIMEZONE
BEGIN:VEVENT
DTSTART;VALUE=DATE:20221211
DTEND;VALUE=DATE:20221212
DTSTAMP:20260426T010318
CREATED:20221026T192116Z
LAST-MODIFIED:20221119T090747Z
UID:5239-1670716800-1670803199@www.vitteaux.fr
SUMMARY:Sainte Barbe
DESCRIPTION:Les sapeurs-pompiers de VITTEAUX fêteront leur sainte patronne\, Sainte Barbe\, le dimanche 11 décembre\, selon le programme suivant : \n9h30 – messe de Sainte Barbe en l’église Saint Germain\n10h45 – dépôt de gerbe à la stèle des sapeurs-pompiers au cimetière de VITTEAUX\n11h30 – cérémonie au centre d’incendie et de secours de VITTEAUX \n 
URL:https://www.vitteaux.fr/evenement/sainte-barbe/
END:VEVENT
END:VCALENDAR