BEGIN:VCALENDAR
VERSION:2.0
PRODID:-//Vitteaux - ECPv5.16.1//NONSGML v1.0//EN
CALSCALE:GREGORIAN
METHOD:PUBLISH
X-WR-CALNAME:Vitteaux
X-ORIGINAL-URL:https://www.vitteaux.fr
X-WR-CALDESC:évènements pour Vitteaux
BEGIN:VTIMEZONE
TZID:Europe/Paris
BEGIN:DAYLIGHT
TZOFFSETFROM:+0100
TZOFFSETTO:+0200
TZNAME:CEST
DTSTART:20230326T010000
END:DAYLIGHT
BEGIN:STANDARD
TZOFFSETFROM:+0200
TZOFFSETTO:+0100
TZNAME:CET
DTSTART:20231029T010000
END:STANDARD
END:VTIMEZONE
BEGIN:VEVENT
DTSTART;VALUE=DATE:20231001
DTEND;VALUE=DATE:20231002
DTSTAMP:20260422T122940
CREATED:20230507T190026Z
LAST-MODIFIED:20230512T145939Z
UID:6435-1696118400-1696204799@www.vitteaux.fr
SUMMARY:Run'in Vitteaux 2023
DESCRIPTION:
URL:https://www.vitteaux.fr/evenement/runin-vitteaux-2023/
ORGANIZER;CN="Association%20Familles%20Rurales":MAILTO:afr21350@gmail.com
END:VEVENT
END:VCALENDAR