BEGIN:VCALENDAR
VERSION:2.0
PRODID:-//Vitteaux - ECPv5.16.1//NONSGML v1.0//EN
CALSCALE:GREGORIAN
METHOD:PUBLISH
X-WR-CALNAME:Vitteaux
X-ORIGINAL-URL:https://www.vitteaux.fr
X-WR-CALDESC:évènements pour Vitteaux
BEGIN:VTIMEZONE
TZID:Europe/Paris
BEGIN:DAYLIGHT
TZOFFSETFROM:+0100
TZOFFSETTO:+0200
TZNAME:CEST
DTSTART:20240331T010000
END:DAYLIGHT
BEGIN:STANDARD
TZOFFSETFROM:+0200
TZOFFSETTO:+0100
TZNAME:CET
DTSTART:20241027T010000
END:STANDARD
END:VTIMEZONE
BEGIN:VEVENT
DTSTART;VALUE=DATE:20240922
DTEND;VALUE=DATE:20240923
DTSTAMP:20260421T103635
CREATED:20240731T165142Z
LAST-MODIFIED:20240825T162158Z
UID:8920-1726963200-1727049599@www.vitteaux.fr
SUMMARY:Projection du film "Matricule 185784 Pierre JOBARD"
DESCRIPTION:Le 23 février 1944\, Pierre Jobard était arrêté par les nazis dans son village de Villeberny puis déporté dans les camps de concentration. A l’initiative d’Henri MENETRIER\, président départemental du Souvenir de la Résistance\, un film relate sa vie et l’horreur de la guerre et de la déportation 80 ans plus tard. \nLa projection du film aura lieu en avant-première à VITTEAUX pour le public le dimanche 22 septembre salle Gueniot avec 2 séances\, une à 10h et une à 15h. \nInscription impérative : \n06 29 69 03 04  –  jmvr21@gmail.com
URL:https://www.vitteaux.fr/evenement/projection-du-film-matricule-185784-pierre-jobard/
LOCATION:Salle Guéniot
END:VEVENT
END:VCALENDAR