BEGIN:VCALENDAR
VERSION:2.0
PRODID:-//Vitteaux - ECPv5.16.1//NONSGML v1.0//EN
CALSCALE:GREGORIAN
METHOD:PUBLISH
X-WR-CALNAME:Vitteaux
X-ORIGINAL-URL:https://www.vitteaux.fr
X-WR-CALDESC:évènements pour Vitteaux
BEGIN:VTIMEZONE
TZID:Europe/Paris
BEGIN:DAYLIGHT
TZOFFSETFROM:+0100
TZOFFSETTO:+0200
TZNAME:CEST
DTSTART:20250330T010000
END:DAYLIGHT
BEGIN:STANDARD
TZOFFSETFROM:+0200
TZOFFSETTO:+0100
TZNAME:CET
DTSTART:20251026T010000
END:STANDARD
END:VTIMEZONE
BEGIN:VEVENT
DTSTART;VALUE=DATE:20250524
DTEND;VALUE=DATE:20250525
DTSTAMP:20260422T124358
CREATED:20250225T163449Z
LAST-MODIFIED:20250301T085515Z
UID:9600-1748044800-1748131199@www.vitteaux.fr
SUMMARY:24e Printemps de l'Auxois
DESCRIPTION:Le programme vittellien \nEspace G. MATHIEU de VITTEAUX \n14h Ateliers Violon et Danses-chants \n17h30 Ciné Concert \n21h Bal avec le duo COUSINEAU/DELAUNAY suivi du trio DMR puis du duo BISCOTTE
URL:https://www.vitteaux.fr/evenement/printemps-de-lauxois-5/
LOCATION:Espace Gilbert MATHIEU
CATEGORIES:Culture
END:VEVENT
END:VCALENDAR