BEGIN:VCALENDAR
VERSION:2.0
PRODID:-//Vitteaux - ECPv5.16.1//NONSGML v1.0//EN
CALSCALE:GREGORIAN
METHOD:PUBLISH
X-WR-CALNAME:Vitteaux
X-ORIGINAL-URL:https://www.vitteaux.fr
X-WR-CALDESC:évènements pour Vitteaux
BEGIN:VTIMEZONE
TZID:Europe/Paris
BEGIN:DAYLIGHT
TZOFFSETFROM:+0100
TZOFFSETTO:+0200
TZNAME:CEST
DTSTART:20240331T010000
END:DAYLIGHT
BEGIN:STANDARD
TZOFFSETFROM:+0200
TZOFFSETTO:+0100
TZNAME:CET
DTSTART:20241027T010000
END:STANDARD
END:VTIMEZONE
BEGIN:VEVENT
DTSTART;VALUE=DATE:20240503
DTEND;VALUE=DATE:20240506
DTSTAMP:20260422T222423
CREATED:20240309T141459Z
LAST-MODIFIED:20240430T193354Z
UID:8258-1714694400-1714953599@www.vitteaux.fr
SUMMARY:Printemps de l'Auxois - 3\, 4 et 5 mai
DESCRIPTION:Découvrez le programme des 3 jours du Printemps de l’Auxois (cliquez sur l’image)
URL:https://www.vitteaux.fr/evenement/printemps-de-lauxois-4/
CATEGORIES:Culture
END:VEVENT
END:VCALENDAR