BEGIN:VCALENDAR
VERSION:2.0
PRODID:-//Vitteaux - ECPv5.16.1//NONSGML v1.0//EN
CALSCALE:GREGORIAN
METHOD:PUBLISH
X-WR-CALNAME:Vitteaux
X-ORIGINAL-URL:https://www.vitteaux.fr
X-WR-CALDESC:évènements pour Vitteaux
BEGIN:VTIMEZONE
TZID:Europe/Paris
BEGIN:DAYLIGHT
TZOFFSETFROM:+0100
TZOFFSETTO:+0200
TZNAME:CEST
DTSTART:20230326T010000
END:DAYLIGHT
BEGIN:STANDARD
TZOFFSETFROM:+0200
TZOFFSETTO:+0100
TZNAME:CET
DTSTART:20231029T010000
END:STANDARD
END:VTIMEZONE
BEGIN:VEVENT
DTSTART;TZID=Europe/Paris:20230915T190000
DTEND;TZID=Europe/Paris:20230915T220000
DTSTAMP:20260422T214341
CREATED:20231006T122953Z
LAST-MODIFIED:20231006T123104Z
UID:7263-1694804400-1694815200@www.vitteaux.fr
SUMMARY:Petites Villes de Demain - Réunion publique
DESCRIPTION:La commune a été retenue en 2021 au programme national du Gouvernement Petites villes de Demain. Ce programme vise à améliorer la qualité de vie dans les petites communes et les territoires ruraux\, en accompagnant les élus et les collectivités qui portent les projets. \nUn groupement de bureaux d’études piloté par le cabinet Perspectives Urbanisme et Paysage de TROYES a été retenu pour réaliser l’étude de revitalisation du centre-bourg de Vitteaux. \nL’étude lancée en mai 2022 sera présentée par le cabinet Perspectives Urbanisme et Paysage lors d’une réunion publique ouverte à tous les vittelliens le vendredi 15 septembre 2023 à 19 heures à la salle Guéniot. \nLa réunion sera suivie d’un apéritif à la salle de l’ancienne école maternelle. \nPlus d’informations ici
URL:https://www.vitteaux.fr/evenement/petites-villes-de-demain-reunion-publique/
LOCATION:Salle Guéniot
ORGANIZER;CN="Mairie":MAILTO:mairie-vitteaux@wanadoo.fr
END:VEVENT
END:VCALENDAR