BEGIN:VCALENDAR
VERSION:2.0
PRODID:-//Vitteaux - ECPv5.16.1//NONSGML v1.0//EN
CALSCALE:GREGORIAN
METHOD:PUBLISH
X-WR-CALNAME:Vitteaux
X-ORIGINAL-URL:https://www.vitteaux.fr
X-WR-CALDESC:évènements pour Vitteaux
BEGIN:VTIMEZONE
TZID:Europe/Paris
BEGIN:DAYLIGHT
TZOFFSETFROM:+0100
TZOFFSETTO:+0200
TZNAME:CEST
DTSTART:20230326T010000
END:DAYLIGHT
BEGIN:STANDARD
TZOFFSETFROM:+0200
TZOFFSETTO:+0100
TZNAME:CET
DTSTART:20231029T010000
END:STANDARD
END:VTIMEZONE
BEGIN:VEVENT
DTSTART;TZID=Europe/Paris:20230916T170000
DTEND;TZID=Europe/Paris:20230916T170000
DTSTAMP:20260422T175743
CREATED:20230801T083610Z
LAST-MODIFIED:20230801T084011Z
UID:6844-1694883600-1694883600@www.vitteaux.fr
SUMMARY:4e marché nocturne des Jeunes Agriculteurs
DESCRIPTION:Les Jeunes Agriculteurs de VITTEAUX organise la 4e édition de leur marché nocturne le samedi 16 septembre à partir de 17h au parc municipal (avenue Carnot/Route d’Avallon). \nAu programme: producteurs locaux\, artisanat\, restauration avec notamment les « burgers des JA » pour cette 4e édition.
URL:https://www.vitteaux.fr/evenement/marche-nocturne-des-jeunes-agriculteurs/
LOCATION:Parc municipal\, route d'avallon\, vitteaux\, 21350\, France
END:VEVENT
END:VCALENDAR