BEGIN:VCALENDAR
VERSION:2.0
PRODID:-//Vitteaux - ECPv5.16.1//NONSGML v1.0//EN
CALSCALE:GREGORIAN
METHOD:PUBLISH
X-WR-CALNAME:Vitteaux
X-ORIGINAL-URL:https://www.vitteaux.fr
X-WR-CALDESC:évènements pour Vitteaux
BEGIN:VTIMEZONE
TZID:Europe/Paris
BEGIN:DAYLIGHT
TZOFFSETFROM:+0100
TZOFFSETTO:+0200
TZNAME:CEST
DTSTART:20220327T010000
END:DAYLIGHT
BEGIN:STANDARD
TZOFFSETFROM:+0200
TZOFFSETTO:+0100
TZNAME:CET
DTSTART:20221030T010000
END:STANDARD
END:VTIMEZONE
BEGIN:VEVENT
DTSTART;VALUE=DATE:20220803
DTEND;VALUE=DATE:20220919
DTSTAMP:20260426T003015
CREATED:20220810T171605Z
LAST-MODIFIED:20220810T175449Z
UID:4509-1659484800-1663545599@www.vitteaux.fr
SUMMARY:Exposition de peintures (jusqu'au 18 septembre)
DESCRIPTION:Exposition de peintures de Christiane Thiébaud-Fournier\, artiste de Sombernon. \nVisite libre du mardi au samedi de 9h30 à 12h30 et de 14h à 18h (sauf jeudi après-midi en septembre) et dimanche 18 septembre.
URL:https://www.vitteaux.fr/evenement/jusquau-18-septembre-exposition-de-peintures/
LOCATION:Office de Tourisme\, 16\, rue Hubert Languet\, Vitteaux\, 21350\, France
CATEGORIES:Exposition
ORGANIZER;CN="Office%20de%20Tourisme%20des%20Terres%20d%27Auxois":MAILTO:contact@terres-auxois.fr
END:VEVENT
END:VCALENDAR