BEGIN:VCALENDAR
VERSION:2.0
PRODID:-//Vitteaux - ECPv5.16.1//NONSGML v1.0//EN
CALSCALE:GREGORIAN
METHOD:PUBLISH
X-WR-CALNAME:Vitteaux
X-ORIGINAL-URL:https://www.vitteaux.fr
X-WR-CALDESC:évènements pour Vitteaux
BEGIN:VTIMEZONE
TZID:Europe/Paris
BEGIN:DAYLIGHT
TZOFFSETFROM:+0100
TZOFFSETTO:+0200
TZNAME:CEST
DTSTART:20220327T010000
END:DAYLIGHT
BEGIN:STANDARD
TZOFFSETFROM:+0200
TZOFFSETTO:+0100
TZNAME:CET
DTSTART:20221030T010000
END:STANDARD
END:VTIMEZONE
BEGIN:VEVENT
DTSTART;VALUE=DATE:20220809
DTEND;VALUE=DATE:20220919
DTSTAMP:20260426T002317
CREATED:20220810T171709Z
LAST-MODIFIED:20220810T175402Z
UID:4503-1660003200-1663545599@www.vitteaux.fr
SUMMARY:Expo-photos "L'Auxois Morvan dans l'objectif" (jusqu'au 18 septembre)
DESCRIPTION:En 2017\, le Pays de l’Auxois Morvan a proposé aux habitants un concours photo dans le cadre de son label Pays d’art et d’histoire. \nL’objectif était que chacun puisse montrer son regard sur le patrimoine local. 96 personnes ont participé et 44 de leurs clichés (sur 170) ont été sélectionnés par un jury composé de professionnels du tourisme\, du patrimoine et de la photographie. \nVenez découvrir les 15 panneaux présentant les photos classés par thème : “Contrastes”\, “Paysages”\, “Au fil de l’eau” \, “Dans l’intimité”\, “Au fil du temps”\, etc. \nVisite libre du mardi au samedi de 9h30 à 12h30 et de 14h à 18h (sauf jeudi après-midi en septembre) et dimanche 18 septembre
URL:https://www.vitteaux.fr/evenement/jusquau-18-septembre-expo-photos-lauxois-morvan-dans-lobjectif/
LOCATION:Office de Tourisme\, 16\, rue Hubert Languet\, Vitteaux\, 21350\, France
CATEGORIES:Exposition
ORGANIZER;CN="Office%20de%20Tourisme%20des%20Terres%20d%27Auxois":MAILTO:contact@terres-auxois.fr
END:VEVENT
END:VCALENDAR