BEGIN:VCALENDAR
VERSION:2.0
PRODID:-//Vitteaux - ECPv5.16.1//NONSGML v1.0//EN
CALSCALE:GREGORIAN
METHOD:PUBLISH
X-WR-CALNAME:Vitteaux
X-ORIGINAL-URL:https://www.vitteaux.fr
X-WR-CALDESC:évènements pour Vitteaux
BEGIN:VTIMEZONE
TZID:Europe/Paris
BEGIN:DAYLIGHT
TZOFFSETFROM:+0100
TZOFFSETTO:+0200
TZNAME:CEST
DTSTART:20230326T010000
END:DAYLIGHT
BEGIN:STANDARD
TZOFFSETFROM:+0200
TZOFFSETTO:+0100
TZNAME:CET
DTSTART:20231029T010000
END:STANDARD
END:VTIMEZONE
BEGIN:VEVENT
DTSTART;VALUE=DATE:20230916
DTEND;VALUE=DATE:20230918
DTSTAMP:20260422T195913
CREATED:20230830T184617Z
LAST-MODIFIED:20230910T175508Z
UID:7092-1694822400-1694995199@www.vitteaux.fr
SUMMARY:Journées Européennes du Patrimoine à Vitteaux
DESCRIPTION:  \nAU PROGRAMME  \nOffice de Tourisme : expositions de photographies « L’EAU…RIGINAL » et de peintures « Les tableaux d’Ysis » \nSamedi et dimanche de 9h30 à 12h30 et de 14h à 18h \nPlus d’informations ici \n  \nCour de l’Hôtel Piget\, 1 rue Portelle : hôtel particulier classé Monument Historique. Découvrez l’ensemble des bâtiments qui viennent d’être restaurés. \nSamedi et dimanche de 14h à 17h30 \n  \nHôtel-Maison Belime\, 4 rue Pelletier de Chambure : visite commentée des cours intérieures\, de la crypte et du rez-de-chaussée du XIIIe siècle \nSamedi et dimanche de 10h à 16h – Tarif : 3 € \n  \nEglise Saint-Germain : Concert d’orgue et de cornet à bouquin avec Thierry Mechler et Eva Godard Proposé par l’association des amis de l’orgue \nsamedi à 18h \nVisite libre de l’église samedi de 10h à 18h et dimanche de 14h à 18h \nL’affiche du concert ici \n  \nPressoir du hameau de Cessey : pressoir d’usage communautaire\, dont l’origine se situe entre le milieu du XVIIIème siècle et le début du XIXème siècle. \nSamedi : visite libre de 10h à 18h \nDimanche : Démonstration de mise en service du pressoir par la Confrérie Saint-Vincent de Vitteaux de 10h à 18h \n  \n 
URL:https://www.vitteaux.fr/evenement/journees-europeennes-du-patrimoine-a-vitteaux/
LOCATION:Vitteaux\, 21350
CATEGORIES:Culture
ORGANIZER;CN="Office%20de%20Tourisme%20des%20Terres%20d%27Auxois":MAILTO:contact@terres-auxois.fr
END:VEVENT
END:VCALENDAR