BEGIN:VCALENDAR
VERSION:2.0
PRODID:-//Vitteaux - ECPv5.16.1//NONSGML v1.0//EN
CALSCALE:GREGORIAN
METHOD:PUBLISH
X-WR-CALNAME:Vitteaux
X-ORIGINAL-URL:https://www.vitteaux.fr
X-WR-CALDESC:évènements pour Vitteaux
BEGIN:VTIMEZONE
TZID:Europe/Paris
BEGIN:DAYLIGHT
TZOFFSETFROM:+0100
TZOFFSETTO:+0200
TZNAME:CEST
DTSTART:20230326T010000
END:DAYLIGHT
BEGIN:STANDARD
TZOFFSETFROM:+0200
TZOFFSETTO:+0100
TZNAME:CET
DTSTART:20231029T010000
END:STANDARD
END:VTIMEZONE
BEGIN:VEVENT
DTSTART;TZID=Europe/Paris:20230430T114500
DTEND;TZID=Europe/Paris:20230430T114500
DTSTAMP:20260423T171049
CREATED:20230126T210449Z
LAST-MODIFIED:20230429T084153Z
UID:5901-1682855100-1682855100@www.vitteaux.fr
SUMMARY:Journée Nationale du souvenir des victimes et des héros de la Déportation
DESCRIPTION:La Journée nationale du souvenir des victimes de la déportation honore la mémoire de tous les déportés sans distinction et rend hommage à leur sacrifice. Cette journée a pour vocation de rappeler à tous ce drame historique majeur\, les leçons qui s’en dégagent\, pour que de tels faits ne se reproduisent plus. \nPlus d’informations sur la Journée nationale du souvenir des victimes et héros de la Déportation ici
URL:https://www.vitteaux.fr/evenement/journee-nationale-du-souvenir-des-victimes-et-des-heros-de-la-deportation-2/
LOCATION:Place du Docteur Maurice QUIGNARD\, Place du Dr Quignard\, VITTEAUX\, 21350\, France
ORGANIZER;CN="Mairie":MAILTO:mairie-vitteaux@wanadoo.fr
END:VEVENT
END:VCALENDAR