BEGIN:VCALENDAR
VERSION:2.0
PRODID:-//Vitteaux - ECPv5.16.1//NONSGML v1.0//EN
CALSCALE:GREGORIAN
METHOD:PUBLISH
X-WR-CALNAME:Vitteaux
X-ORIGINAL-URL:https://www.vitteaux.fr
X-WR-CALDESC:évènements pour Vitteaux
BEGIN:VTIMEZONE
TZID:Europe/Paris
BEGIN:DAYLIGHT
TZOFFSETFROM:+0100
TZOFFSETTO:+0200
TZNAME:CEST
DTSTART:20230326T010000
END:DAYLIGHT
BEGIN:STANDARD
TZOFFSETFROM:+0200
TZOFFSETTO:+0100
TZNAME:CET
DTSTART:20231029T010000
END:STANDARD
END:VTIMEZONE
BEGIN:VEVENT
DTSTART;VALUE=DATE:20230713
DTEND;VALUE=DATE:20230714
DTSTAMP:20260419T214711
CREATED:20230126T210658Z
LAST-MODIFIED:20230705T185941Z
UID:5907-1689206400-1689292799@www.vitteaux.fr
SUMMARY:Fête Nationale
DESCRIPTION:21 h 30 – RETRAITE AUX FLAMBEAUX\nDistribution des lampions (route de la Justice)\nDéfilé en ville jusqu’au parc municipal \n22 h 15 – CONCERT DE L’UNION VITTELLIENNE (Parc municipal)\nReprise du défilé jusqu’aux terrains de Tennis \n22 h 45  – FEU D’ARTIFICE (terrains de tennis)\nBal champêtre\nBuvette \n  \nEn raison des travaux du gymnase et de la salle polyvalente\, le concert de l’Union Vittellienne aura lieu au parc municipal. Le public se rassemblera ensuite dans l’espace situé entre les terrains de tennis\, le terrain de football et la route de Marcilly pour assister au feu d’artifice et le bal champêtre et la buvette seront organisés dans cet espace.
URL:https://www.vitteaux.fr/evenement/fete-nationale-3/
END:VEVENT
END:VCALENDAR