BEGIN:VCALENDAR
VERSION:2.0
PRODID:-//Vitteaux - ECPv5.16.1//NONSGML v1.0//EN
CALSCALE:GREGORIAN
METHOD:PUBLISH
X-WR-CALNAME:Vitteaux
X-ORIGINAL-URL:https://www.vitteaux.fr
X-WR-CALDESC:évènements pour Vitteaux
BEGIN:VTIMEZONE
TZID:Europe/Paris
BEGIN:DAYLIGHT
TZOFFSETFROM:+0100
TZOFFSETTO:+0200
TZNAME:CEST
DTSTART:20240331T010000
END:DAYLIGHT
BEGIN:STANDARD
TZOFFSETFROM:+0200
TZOFFSETTO:+0100
TZNAME:CET
DTSTART:20241027T010000
END:STANDARD
END:VTIMEZONE
BEGIN:VEVENT
DTSTART;TZID=Europe/Paris:20241207T103000
DTEND;TZID=Europe/Paris:20241207T103000
DTSTAMP:20260419T160547
CREATED:20241204T121705Z
LAST-MODIFIED:20241204T193401Z
UID:9327-1733567400-1733567400@www.vitteaux.fr
SUMMARY:Fête de Saint Eloi
DESCRIPTION:La confrérie donne rendez-vous à la population ce samedi 7 décembre à 10h30 pour la célébration religieuse en l’église St Germain de Vitteaux suivie de la traditionnelle cérémonie à la salle du patronage. \n\nPlus d’informations dans l’article publié sur notre site ici
URL:https://www.vitteaux.fr/evenement/fete-de-saint-eloi/
END:VEVENT
END:VCALENDAR