BEGIN:VCALENDAR
VERSION:2.0
PRODID:-//Vitteaux - ECPv5.16.1//NONSGML v1.0//EN
CALSCALE:GREGORIAN
METHOD:PUBLISH
X-WR-CALNAME:Vitteaux
X-ORIGINAL-URL:https://www.vitteaux.fr
X-WR-CALDESC:évènements pour Vitteaux
BEGIN:VTIMEZONE
TZID:Europe/Paris
BEGIN:DAYLIGHT
TZOFFSETFROM:+0100
TZOFFSETTO:+0200
TZNAME:CEST
DTSTART:20240331T010000
END:DAYLIGHT
BEGIN:STANDARD
TZOFFSETFROM:+0200
TZOFFSETTO:+0100
TZNAME:CET
DTSTART:20241027T010000
END:STANDARD
END:VTIMEZONE
BEGIN:VEVENT
DTSTART;TZID=Europe/Paris:20240621T180000
DTEND;TZID=Europe/Paris:20240621T180000
DTSTAMP:20260421T164850
CREATED:20240616T130923Z
LAST-MODIFIED:20240616T131034Z
UID:8689-1718992800-1718992800@www.vitteaux.fr
SUMMARY:Fête de la musique - Présentation de l'orgue de VITTEAUX
DESCRIPTION:L’association des Amis de l’ Orgue de Vitteaux sous la présidence d’Yves Cuenot organise le vendredi 21 juin à 18h une présentation et une audition de l’orgue de l’église Saint Germain par Thierry MECHLER à l’occasion de la fête de la musique.
URL:https://www.vitteaux.fr/evenement/fete-de-la-musique-presentation-de-lorgue-de-vitteaux/
LOCATION:Eglise Saint-Germain\, Place Chanoine Millot\, Vitteaux\, 21350
CATEGORIES:Culture
END:VEVENT
END:VCALENDAR