BEGIN:VCALENDAR
VERSION:2.0
PRODID:-//Vitteaux - ECPv5.16.1//NONSGML v1.0//EN
CALSCALE:GREGORIAN
METHOD:PUBLISH
X-WR-CALNAME:Vitteaux
X-ORIGINAL-URL:https://www.vitteaux.fr
X-WR-CALDESC:évènements pour Vitteaux
BEGIN:VTIMEZONE
TZID:Europe/Paris
BEGIN:DAYLIGHT
TZOFFSETFROM:+0100
TZOFFSETTO:+0200
TZNAME:CEST
DTSTART:20240331T010000
END:DAYLIGHT
BEGIN:STANDARD
TZOFFSETFROM:+0200
TZOFFSETTO:+0100
TZNAME:CET
DTSTART:20241027T010000
END:STANDARD
END:VTIMEZONE
BEGIN:VEVENT
DTSTART;VALUE=DATE:20240604
DTEND;VALUE=DATE:20240630
DTSTAMP:20260423T123540
CREATED:20240612T135357Z
LAST-MODIFIED:20240612T135357Z
UID:8642-1717459200-1719705599@www.vitteaux.fr
SUMMARY:Exposition de peintures et aquarelles de Claude Robin jusqu'au 29 juin
DESCRIPTION:Présentation de Claude Robin : \nJ’utilise l’aquarelle et le crayon de couleur pour représenter des roses et autres fleurs.\nJ’utilise la peinture à l’huile pour peindre les paysages.\nTous mes travaux sont encadrés\, les formats varient de 30/40 à 60/70.\nPour les curieux\, je précise que toute ma vie j’ai tenu des crayons et pinceaux puisqu’après mes études dans différentes écoles d’art\, j’ai enseigné l’art appliqué et l’histoire de l’art au lycée des Marcs d’Or à Dijon. Maintenant tout mon temps est pris par la peinture. \n \nAccès libre du mardi au samedi de 9h30 à 12h30 et de 14h à 18h (sauf jeudi après-midi)
URL:https://www.vitteaux.fr/evenement/exposition-de-peintures-et-aquarelles-de-claude-robin-jusquau-29-juin/
LOCATION:Office de Tourisme\, 16\, rue Hubert Languet\, Vitteaux\, 21350\, France
CATEGORIES:Exposition
ORGANIZER;CN="Office%20de%20Tourisme%20des%20Terres%20d%27Auxois":MAILTO:contact@terres-auxois.fr
END:VEVENT
END:VCALENDAR