BEGIN:VCALENDAR
VERSION:2.0
PRODID:-//Vitteaux - ECPv5.16.1//NONSGML v1.0//EN
CALSCALE:GREGORIAN
METHOD:PUBLISH
X-WR-CALNAME:Vitteaux
X-ORIGINAL-URL:https://www.vitteaux.fr
X-WR-CALDESC:évènements pour Vitteaux
BEGIN:VTIMEZONE
TZID:Europe/Paris
BEGIN:DAYLIGHT
TZOFFSETFROM:+0100
TZOFFSETTO:+0200
TZNAME:CEST
DTSTART:20230326T010000
END:DAYLIGHT
BEGIN:STANDARD
TZOFFSETFROM:+0200
TZOFFSETTO:+0100
TZNAME:CET
DTSTART:20231029T010000
END:STANDARD
END:VTIMEZONE
BEGIN:VEVENT
DTSTART;VALUE=DATE:20230701
DTEND;VALUE=DATE:20230729
DTSTAMP:20260420T005624
CREATED:20230529T135840Z
LAST-MODIFIED:20230529T140009Z
UID:6443-1688169600-1690588799@www.vitteaux.fr
SUMMARY:Exposition de peintures de Jean-Luc RUAULT jusqu'au 28 juillet
DESCRIPTION:Jean-Luc RUAULT\, né en 1959 à Paris\, rejoint le mensuel de bandes dessinées (A Suivre…) après des études d’art\, puis devient directeur artistique et illustrateur pour diverses revues. \nCôté bandes dessinées\, il réalise l’adaptation graphique d’albums étrangers\, conçoit des typos\, collabore en tant que coloriste avec des auteurs comme Jacques Tardi. \nCôté peinture\, il expose régulièrement en région parisienne\, effectue une série de tableaux sur les grands noms de l’aviation pour le musée de l’Air et de l’Espace du Bourget\, réalise une fresque pour une société et expose actuellement des œuvres originales à l’hôpital Foch de Suresnes. \nOffice de tourisme de VITTEAUX \n1er au 28 juillet 2023 \nEntrée libre du mardi au samedi de 9h30 à 12h30 et de 14h à 18h \n 
URL:https://www.vitteaux.fr/evenement/exposition-de-peintures-de-jean-luc-ruault-jusquau-28-juillet/
LOCATION:Office de Tourisme\, 16\, rue Hubert Languet\, Vitteaux\, 21350\, France
CATEGORIES:Culture
ORGANIZER;CN="Office%20de%20Tourisme%20des%20Terres%20d%27Auxois":MAILTO:contact@terres-auxois.fr
END:VEVENT
END:VCALENDAR