BEGIN:VCALENDAR
VERSION:2.0
PRODID:-//Vitteaux - ECPv5.16.1//NONSGML v1.0//EN
CALSCALE:GREGORIAN
METHOD:PUBLISH
X-WR-CALNAME:Vitteaux
X-ORIGINAL-URL:https://www.vitteaux.fr
X-WR-CALDESC:évènements pour Vitteaux
BEGIN:VTIMEZONE
TZID:Europe/Paris
BEGIN:DAYLIGHT
TZOFFSETFROM:+0100
TZOFFSETTO:+0200
TZNAME:CEST
DTSTART:20240331T010000
END:DAYLIGHT
BEGIN:STANDARD
TZOFFSETFROM:+0200
TZOFFSETTO:+0100
TZNAME:CET
DTSTART:20241027T010000
END:STANDARD
END:VTIMEZONE
BEGIN:VEVENT
DTSTART;VALUE=DATE:20240905
DTEND;VALUE=DATE:20240929
DTSTAMP:20260423T123054
CREATED:20240916T063654Z
LAST-MODIFIED:20240916T064341Z
UID:9030-1725494400-1727567999@www.vitteaux.fr
SUMMARY:Exposition de collages jusqu'au 28 septembre
DESCRIPTION:Entrée libre \nMardi\, mercredi et vendredi de 9h30 à 12h30 et de 14h à 18h \nJeudi et samedi de 9h30 à 12h30 \nSamedi 21 et dimanche 22 septembre de 9h30 à 12h30 et de 14h à 18h
URL:https://www.vitteaux.fr/evenement/exposition-de-collages-jusquau-28-septembre/
LOCATION:Office de Tourisme\, 16\, rue Hubert Languet\, Vitteaux\, 21350\, France
CATEGORIES:Exposition
ORGANIZER;CN="Office%20de%20Tourisme%20des%20Terres%20d%27Auxois":MAILTO:contact@terres-auxois.fr
END:VEVENT
END:VCALENDAR