BEGIN:VCALENDAR
VERSION:2.0
PRODID:-//Vitteaux - ECPv5.16.1//NONSGML v1.0//EN
CALSCALE:GREGORIAN
METHOD:PUBLISH
X-WR-CALNAME:Vitteaux
X-ORIGINAL-URL:https://www.vitteaux.fr
X-WR-CALDESC:évènements pour Vitteaux
BEGIN:VTIMEZONE
TZID:Europe/Paris
BEGIN:DAYLIGHT
TZOFFSETFROM:+0100
TZOFFSETTO:+0200
TZNAME:CEST
DTSTART:20240331T010000
END:DAYLIGHT
BEGIN:STANDARD
TZOFFSETFROM:+0200
TZOFFSETTO:+0100
TZNAME:CET
DTSTART:20241027T010000
END:STANDARD
END:VTIMEZONE
BEGIN:VEVENT
DTSTART;VALUE=DATE:20240604
DTEND;VALUE=DATE:20240712
DTSTAMP:20260422T205806
CREATED:20240430T202406Z
LAST-MODIFIED:20240529T193456Z
UID:8403-1717459200-1720742399@www.vitteaux.fr
SUMMARY:Exposition "1944 : Quatre-vingts ans après..." jusqu'au 11 juillet
DESCRIPTION:Des témoignages des aînés…aux émotions des élèves\n1944 : Quatre-vingts ans après…\nA Vitteaux et ailleurs\, encore dans la Mémoire\, déjà dans l’Histoire \nCela fait plusieurs années que les élèves du Collège Dr Kuhn de Vitteaux interviewent leurs aînés pour savoir comment ils ont vécu la 2e guerre mondiale – et ils ont des choses à dire… En cette année de 80e anniversaire\, ils ont aussi bien salué la mémoire des fusillés de l’Affaire Werner au cœur de l’Auxois que celle des soldats anglais\, canadiens et américains sur les plages du Débarquement en Normandie. Ils vous présentent en mots et en images les témoignages qu’ils ont recueillis et les émotions qu’ils ont ressenties à propos des événements locaux\, nationaux et internationaux qui ont marqué l’année 1944. \n \nOffice de tourisme\, salle du 1er étage \nEntrée libre du mardi au samedi de 9h30 à 12h30 et de 14h à 18h (sauf jeudi après-midi en juin)
URL:https://www.vitteaux.fr/evenement/exposition-1944-quatre-vingts-ans-apres-4-juin-au-11-juillet/
LOCATION:Office de Tourisme\, 16\, rue Hubert Languet\, Vitteaux\, 21350\, France
CATEGORIES:Exposition
END:VEVENT
END:VCALENDAR