BEGIN:VCALENDAR
VERSION:2.0
PRODID:-//Vitteaux - ECPv5.16.1//NONSGML v1.0//EN
CALSCALE:GREGORIAN
METHOD:PUBLISH
X-WR-CALNAME:Vitteaux
X-ORIGINAL-URL:https://www.vitteaux.fr
X-WR-CALDESC:évènements pour Vitteaux
BEGIN:VTIMEZONE
TZID:Europe/Paris
BEGIN:DAYLIGHT
TZOFFSETFROM:+0100
TZOFFSETTO:+0200
TZNAME:CEST
DTSTART:20250330T010000
END:DAYLIGHT
BEGIN:STANDARD
TZOFFSETFROM:+0200
TZOFFSETTO:+0100
TZNAME:CET
DTSTART:20251026T010000
END:STANDARD
END:VTIMEZONE
BEGIN:VEVENT
DTSTART;TZID=Europe/Paris:20250518T120000
DTEND;TZID=Europe/Paris:20250518T120000
DTSTAMP:20260422T123530
CREATED:20250412T081711Z
LAST-MODIFIED:20250504T093551Z
UID:9737-1747569600-1747569600@www.vitteaux.fr
SUMMARY:Courses hippiques
DESCRIPTION:Les premières courses hippiques de 2025 auront lieu le dimanche 18 mai à l’hippodrome de VITTEAUX-MARCILLY à partir de 12h. \nDébut des courses à 14h
URL:https://www.vitteaux.fr/evenement/courses-hippiques-7/
LOCATION:Hippodrome de MARCILLY-DRACY / VITTEAUX\, RD 117 D\, MARCILLY ET DRACY\, 21350\, France
CATEGORIES:Manifestation
END:VEVENT
END:VCALENDAR