BEGIN:VCALENDAR
VERSION:2.0
PRODID:-//Vitteaux - ECPv5.16.1//NONSGML v1.0//EN
CALSCALE:GREGORIAN
METHOD:PUBLISH
X-WR-CALNAME:Vitteaux
X-ORIGINAL-URL:https://www.vitteaux.fr
X-WR-CALDESC:évènements pour Vitteaux
BEGIN:VTIMEZONE
TZID:Europe/Paris
BEGIN:DAYLIGHT
TZOFFSETFROM:+0100
TZOFFSETTO:+0200
TZNAME:CEST
DTSTART:20240331T010000
END:DAYLIGHT
BEGIN:STANDARD
TZOFFSETFROM:+0200
TZOFFSETTO:+0100
TZNAME:CET
DTSTART:20241027T010000
END:STANDARD
END:VTIMEZONE
BEGIN:VEVENT
DTSTART;TZID=Europe/Paris:20240707T120000
DTEND;TZID=Europe/Paris:20240707T120000
DTSTAMP:20260419T143808
CREATED:20240224T212553Z
LAST-MODIFIED:20240520T190708Z
UID:8224-1720353600-1720353600@www.vitteaux.fr
SUMMARY:Courses hippiques
DESCRIPTION:Le 2e rendez-vous des courses hippiques de 2024 aura lieu le dimanche 7 juillet à partir de 12h sur l’hippodrome de MARCILLY-VITTEAUX.
URL:https://www.vitteaux.fr/evenement/courses-hippiques-5/
LOCATION:Hippodrome de MARCILLY-DRACY / VITTEAUX\, RD 117 D\, MARCILLY ET DRACY\, 21350\, France
END:VEVENT
END:VCALENDAR