BEGIN:VCALENDAR
VERSION:2.0
PRODID:-//Vitteaux - ECPv5.16.1//NONSGML v1.0//EN
CALSCALE:GREGORIAN
METHOD:PUBLISH
X-WR-CALNAME:Vitteaux
X-ORIGINAL-URL:https://www.vitteaux.fr
X-WR-CALDESC:évènements pour Vitteaux
BEGIN:VTIMEZONE
TZID:Europe/Paris
BEGIN:DAYLIGHT
TZOFFSETFROM:+0100
TZOFFSETTO:+0200
TZNAME:CEST
DTSTART:20250330T010000
END:DAYLIGHT
BEGIN:STANDARD
TZOFFSETFROM:+0200
TZOFFSETTO:+0100
TZNAME:CET
DTSTART:20251026T010000
END:STANDARD
END:VTIMEZONE
BEGIN:VEVENT
DTSTART;TZID=Europe/Paris:20250922T190000
DTEND;TZID=Europe/Paris:20250922T190000
DTSTAMP:20260421T121224
CREATED:20250916T191505Z
LAST-MODIFIED:20250916T191505Z
UID:10368-1758567600-1758567600@www.vitteaux.fr
SUMMARY:Conseil municipal
DESCRIPTION:Le conseil municipal se réunira le lundi 22  septembre à 19 h en mairie de Vitteaux\, salle du Conseil Municipal. \nOrdre du jour : \n1- Communications \n2- Modalités d’attribution des bons alimentaires \n3- Nomination d’un régisseur de recettes \n4- Vente du camion des services techniques \n5- Subvention amendes de police 2026 \n6- Plan de financement Petites Villes de Demain (espaces publics) \n7- Subvention voirie communale 2026 \n8- Comptabilité: décision modificative n+3 \n9- Informations et questions diverses
URL:https://www.vitteaux.fr/evenement/conseil-municipal-32/
LOCATION:Mairie (salle du conseil municipal)\, 23 rue de l'Hôtel de Ville\, VITTEAUX\, 21350
CATEGORIES:Citoyennete
ORGANIZER;CN="Mairie":MAILTO:mairie-vitteaux@wanadoo.fr
END:VEVENT
END:VCALENDAR