BEGIN:VCALENDAR
VERSION:2.0
PRODID:-//Vitteaux - ECPv5.16.1//NONSGML v1.0//EN
CALSCALE:GREGORIAN
METHOD:PUBLISH
X-WR-CALNAME:Vitteaux
X-ORIGINAL-URL:https://www.vitteaux.fr
X-WR-CALDESC:évènements pour Vitteaux
BEGIN:VTIMEZONE
TZID:Europe/Paris
BEGIN:DAYLIGHT
TZOFFSETFROM:+0100
TZOFFSETTO:+0200
TZNAME:CEST
DTSTART:20250330T010000
END:DAYLIGHT
BEGIN:STANDARD
TZOFFSETFROM:+0200
TZOFFSETTO:+0100
TZNAME:CET
DTSTART:20251026T010000
END:STANDARD
END:VTIMEZONE
BEGIN:VEVENT
DTSTART;TZID=Europe/Paris:20250414T190000
DTEND;TZID=Europe/Paris:20250414T235900
DTSTAMP:20260421T165416
CREATED:20250401T181527Z
LAST-MODIFIED:20250408T191123Z
UID:9716-1744657200-1744675140@www.vitteaux.fr
SUMMARY:Conseil municipal
DESCRIPTION:Le conseil municipal se réunira le lundi 14 avril à 19 h en mairie de Vitteaux\, salle du Conseil Municipal. \nOrdre du jour : \n1- Communications \n2- Taux d’imposition des taxes directes locales \n3- Classement voirie parking salle polyvalente \n4- Classement voie communale n°133 \n5- Subvention exceptionnelle Sprinter Club Olympique \n6- Protection sociale complémentaire risque santé \n7- Contrat de travail Aurélie VIEVILLE \n8- Don administré commune de GISSEY-LE-VIEIL \n9- Questions diverses
URL:https://www.vitteaux.fr/evenement/conseil-municipal-27/
LOCATION:Mairie (salle du conseil municipal)\, 23 rue de l'Hôtel de Ville\, VITTEAUX\, 21350
CATEGORIES:Citoyennete
ORGANIZER;CN="Mairie":MAILTO:mairie-vitteaux@wanadoo.fr
END:VEVENT
END:VCALENDAR