BEGIN:VCALENDAR
VERSION:2.0
PRODID:-//Vitteaux - ECPv5.16.1//NONSGML v1.0//EN
CALSCALE:GREGORIAN
METHOD:PUBLISH
X-WR-CALNAME:Vitteaux
X-ORIGINAL-URL:https://www.vitteaux.fr
X-WR-CALDESC:évènements pour Vitteaux
BEGIN:VTIMEZONE
TZID:Europe/Paris
BEGIN:DAYLIGHT
TZOFFSETFROM:+0100
TZOFFSETTO:+0200
TZNAME:CEST
DTSTART:20240331T010000
END:DAYLIGHT
BEGIN:STANDARD
TZOFFSETFROM:+0200
TZOFFSETTO:+0100
TZNAME:CET
DTSTART:20241027T010000
END:STANDARD
END:VTIMEZONE
BEGIN:VEVENT
DTSTART;TZID=Europe/Paris:20241127T190000
DTEND;TZID=Europe/Paris:20241127T190000
DTSTAMP:20260421T102841
CREATED:20241121T201631Z
LAST-MODIFIED:20241121T201631Z
UID:9284-1732734000-1732734000@www.vitteaux.fr
SUMMARY:Conseil municipal
DESCRIPTION:Le conseil municipal se réunira le mercredi 27 novembre à 19 h en mairie de Vitteaux\, salle du Conseil Municipal. \nOrdre du jour : \n1- Communications (Présentation du projet Petites Villes de Demain – Présentation de l’étude du réseau d’eaux pluviales de la rue de Cessey) \n2- Comptabilité – Décision modificative n°3 \n3- Comptabilité – Admission en non valeur \n4- SICECO – Redevance d’occupation du domaine public \n5- Création d’un emploi non permanent \n6- Informations et questions diverses \n 
URL:https://www.vitteaux.fr/evenement/conseil-municipal-24/
LOCATION:Mairie (salle du conseil municipal)\, 23 rue de l'Hôtel de Ville\, VITTEAUX\, 21350
ORGANIZER;CN="Mairie":MAILTO:mairie-vitteaux@wanadoo.fr
END:VEVENT
END:VCALENDAR