BEGIN:VCALENDAR
VERSION:2.0
PRODID:-//Vitteaux - ECPv5.16.1//NONSGML v1.0//EN
CALSCALE:GREGORIAN
METHOD:PUBLISH
X-WR-CALNAME:Vitteaux
X-ORIGINAL-URL:https://www.vitteaux.fr
X-WR-CALDESC:évènements pour Vitteaux
BEGIN:VTIMEZONE
TZID:Europe/Paris
BEGIN:DAYLIGHT
TZOFFSETFROM:+0100
TZOFFSETTO:+0200
TZNAME:CEST
DTSTART:20240331T010000
END:DAYLIGHT
BEGIN:STANDARD
TZOFFSETFROM:+0200
TZOFFSETTO:+0100
TZNAME:CET
DTSTART:20241027T010000
END:STANDARD
END:VTIMEZONE
BEGIN:VEVENT
DTSTART;TZID=Europe/Paris:20241022T190000
DTEND;TZID=Europe/Paris:20241022T190000
DTSTAMP:20260419T232859
CREATED:20241016T035257Z
LAST-MODIFIED:20241016T191533Z
UID:9193-1729623600-1729623600@www.vitteaux.fr
SUMMARY:Conseil municipal
DESCRIPTION:Le conseil municipal se réunira le mardi 22 octobre à 19 h en mairie de Vitteaux\, salle du Conseil Municipal. \nOrdre du jour : \n1- Communications \n2- Résultats de l’appel d’offres de maîtrise d’œuvre Petites Villes de Demain (espaces publics et architecture) \n3- Comptabilité – Décision modificative n°2 \n4- Tarifs des salles communales \n5- Contrat de la secrétaire générale \n6- Modification des horaires de l’éclairage public de la traversée de Vitteaux \n7- Questions diverses
URL:https://www.vitteaux.fr/evenement/conseil-municipal-23/
LOCATION:Mairie (salle du conseil municipal)\, 23 rue de l'Hôtel de Ville\, VITTEAUX\, 21350
CATEGORIES:Citoyennete
ORGANIZER;CN="Mairie":MAILTO:mairie-vitteaux@wanadoo.fr
END:VEVENT
END:VCALENDAR