BEGIN:VCALENDAR
VERSION:2.0
PRODID:-//Vitteaux - ECPv5.16.1//NONSGML v1.0//EN
CALSCALE:GREGORIAN
METHOD:PUBLISH
X-WR-CALNAME:Vitteaux
X-ORIGINAL-URL:https://www.vitteaux.fr
X-WR-CALDESC:évènements pour Vitteaux
BEGIN:VTIMEZONE
TZID:Europe/Paris
BEGIN:DAYLIGHT
TZOFFSETFROM:+0100
TZOFFSETTO:+0200
TZNAME:CEST
DTSTART:20240331T010000
END:DAYLIGHT
BEGIN:STANDARD
TZOFFSETFROM:+0200
TZOFFSETTO:+0100
TZNAME:CET
DTSTART:20241027T010000
END:STANDARD
END:VTIMEZONE
BEGIN:VEVENT
DTSTART;TZID=Europe/Paris:20240808T190000
DTEND;TZID=Europe/Paris:20240808T190000
DTSTAMP:20260420T074757
CREATED:20240805T190506Z
LAST-MODIFIED:20240805T190506Z
UID:8939-1723143600-1723143600@www.vitteaux.fr
SUMMARY:Conseil municipal
DESCRIPTION:Le conseil municipal se réunira le jeudi 8 août à 19h en mairie de Vitteaux\, salle du Conseil Municipal. \nOrdre du jour : \n1- Communications \n2- Subvention Conseil départemental « Voirie communale soutien exceptionnel » \n3- Subvention Conseil départemental « Plan de soutien à la voirie 2025 » \n4- Subvention exceptionnelle association Les enfants Terribles \n5- Subvention association La Cergondine \n6- Convention de partenariat avec le Conseil départemental pour la manifestation « Coup de contes » \n7- Tarif de vente de terrains au lotissement Saint Germain \n8- Informations et questions diverses
URL:https://www.vitteaux.fr/evenement/conseil-municipal-21/
LOCATION:Mairie (salle du conseil municipal)\, 23 rue de l'Hôtel de Ville\, VITTEAUX\, 21350
CATEGORIES:Citoyennete
ORGANIZER;CN="Mairie":MAILTO:mairie-vitteaux@wanadoo.fr
END:VEVENT
END:VCALENDAR