BEGIN:VCALENDAR
VERSION:2.0
PRODID:-//Vitteaux - ECPv5.16.1//NONSGML v1.0//EN
CALSCALE:GREGORIAN
METHOD:PUBLISH
X-WR-CALNAME:Vitteaux
X-ORIGINAL-URL:https://www.vitteaux.fr
X-WR-CALDESC:évènements pour Vitteaux
BEGIN:VTIMEZONE
TZID:Europe/Paris
BEGIN:DAYLIGHT
TZOFFSETFROM:+0100
TZOFFSETTO:+0200
TZNAME:CEST
DTSTART:20240331T010000
END:DAYLIGHT
BEGIN:STANDARD
TZOFFSETFROM:+0200
TZOFFSETTO:+0100
TZNAME:CET
DTSTART:20241027T010000
END:STANDARD
END:VTIMEZONE
BEGIN:VEVENT
DTSTART;TZID=Europe/Paris:20240626T190000
DTEND;TZID=Europe/Paris:20240626T190000
DTSTAMP:20260423T105915
CREATED:20240619T123423Z
LAST-MODIFIED:20240619T123923Z
UID:8701-1719428400-1719428400@www.vitteaux.fr
SUMMARY:Conseil municipal
DESCRIPTION:Le conseil municipal se réunira le mercredi 26 juin à 19h en mairie de Vitteaux\, salle du Conseil Municipal. \nOrdre du jour : \n1- Communications \n2- Quartier Saint Germain : cahier des charges de recommandations architecturales et paysagères \n3-Bibliothèque : convention de partenariat Vitteaux/Dampierre-en-Montagne \n4- SICECO : fonds de concours luminaires moins de 20 ans \n5- Contrat Mme Caroline PERRAUD \n6- Revalorisation indiciaire Mme Marine ERARD \n7- Mise en place indemnité d’astreinte et de permanence \n8- Tarifs photocopies associations et particulier \n9- Questions diverses
URL:https://www.vitteaux.fr/evenement/conseil-municipal-20/
LOCATION:Mairie (salle du conseil municipal)\, 23 rue de l'Hôtel de Ville\, VITTEAUX\, 21350
CATEGORIES:Citoyennete
ORGANIZER;CN="Mairie":MAILTO:mairie-vitteaux@wanadoo.fr
END:VEVENT
END:VCALENDAR