BEGIN:VCALENDAR
VERSION:2.0
PRODID:-//Vitteaux - ECPv5.16.1//NONSGML v1.0//EN
CALSCALE:GREGORIAN
METHOD:PUBLISH
X-WR-CALNAME:Vitteaux
X-ORIGINAL-URL:https://www.vitteaux.fr
X-WR-CALDESC:évènements pour Vitteaux
BEGIN:VTIMEZONE
TZID:Europe/Paris
BEGIN:DAYLIGHT
TZOFFSETFROM:+0100
TZOFFSETTO:+0200
TZNAME:CEST
DTSTART:20240331T010000
END:DAYLIGHT
BEGIN:STANDARD
TZOFFSETFROM:+0200
TZOFFSETTO:+0100
TZNAME:CET
DTSTART:20241027T010000
END:STANDARD
END:VTIMEZONE
BEGIN:VEVENT
DTSTART;TZID=Europe/Paris:20240223T200000
DTEND;TZID=Europe/Paris:20240223T200000
DTSTAMP:20260423T010635
CREATED:20240216T105803Z
LAST-MODIFIED:20240216T105803Z
UID:8076-1708718400-1708718400@www.vitteaux.fr
SUMMARY:Conseil municipal
DESCRIPTION:Le conseil municipal se réunira le vendredi 23 février à 19h en mairie de Vitteaux\, salle du Conseil Municipal. \nOrdre du jour : \n1- Communications \n2- Budget principal et budget annexe \n\nCompte administratif et compte de gestion 2023\nAffectation de résultat 2023\nBudgets primitifs 2024\n\n3- Presbytère – Convention de mise à disposition d’un local \n4- Quartier Saint Germain – Validation des esquisses proposées par le bureau d’études \n5- Petites Villes de Demain – Acquisition de bien \n6- Informations et questions diverses \n 
URL:https://www.vitteaux.fr/evenement/conseil-municipal-17/
LOCATION:Mairie (salle du conseil municipal)\, 23 rue de l'Hôtel de Ville\, VITTEAUX\, 21350
ORGANIZER;CN="Mairie":MAILTO:mairie-vitteaux@wanadoo.fr
END:VEVENT
END:VCALENDAR