BEGIN:VCALENDAR
VERSION:2.0
PRODID:-//Vitteaux - ECPv5.16.1//NONSGML v1.0//EN
CALSCALE:GREGORIAN
METHOD:PUBLISH
X-WR-CALNAME:Vitteaux
X-ORIGINAL-URL:https://www.vitteaux.fr
X-WR-CALDESC:évènements pour Vitteaux
BEGIN:VTIMEZONE
TZID:Europe/Paris
BEGIN:DAYLIGHT
TZOFFSETFROM:+0100
TZOFFSETTO:+0200
TZNAME:CEST
DTSTART:20230326T010000
END:DAYLIGHT
BEGIN:STANDARD
TZOFFSETFROM:+0200
TZOFFSETTO:+0100
TZNAME:CET
DTSTART:20231029T010000
END:STANDARD
END:VTIMEZONE
BEGIN:VEVENT
DTSTART;TZID=Europe/Paris:20231214T190000
DTEND;TZID=Europe/Paris:20231214T190000
DTSTAMP:20260422T143217
CREATED:20231208T201827Z
LAST-MODIFIED:20231208T201827Z
UID:7599-1702580400-1702580400@www.vitteaux.fr
SUMMARY:Conseil municipal
DESCRIPTION:Le conseil municipal se réunira le jeudi 14 décembre à 19h en mairie de Vitteaux (salle du conseil municipal). \nOrdre du jour : \n1- Communications \n2- Renouvellement bail gendarmerie \n3- Comptabilité – Décision modificative n°3 \n4- SICECO – Définition zones d’accélération des énergies renouvelables \n5- Modalités d’octroi de cadeaux réalisés par la collectivité aux enfants scolarisés  \n6- Avenant au bail praticiens à la maison médicale pluridisciplinaire \n7- Convention de mise à disposition d’un terrain communal au collège Dr Kuhn \n8- Informations et questions diverses
URL:https://www.vitteaux.fr/evenement/conseil-municipal-15/
LOCATION:Mairie (salle du conseil municipal)\, 23 rue de l'Hôtel de Ville\, VITTEAUX\, 21350
CATEGORIES:Citoyennete
ORGANIZER;CN="Mairie":MAILTO:mairie-vitteaux@wanadoo.fr
END:VEVENT
END:VCALENDAR