BEGIN:VCALENDAR
VERSION:2.0
PRODID:-//Vitteaux - ECPv5.16.1//NONSGML v1.0//EN
CALSCALE:GREGORIAN
METHOD:PUBLISH
X-WR-CALNAME:Vitteaux
X-ORIGINAL-URL:https://www.vitteaux.fr
X-WR-CALDESC:évènements pour Vitteaux
BEGIN:VTIMEZONE
TZID:Europe/Paris
BEGIN:DAYLIGHT
TZOFFSETFROM:+0100
TZOFFSETTO:+0200
TZNAME:CEST
DTSTART:20230326T010000
END:DAYLIGHT
BEGIN:STANDARD
TZOFFSETFROM:+0200
TZOFFSETTO:+0100
TZNAME:CET
DTSTART:20231029T010000
END:STANDARD
END:VTIMEZONE
BEGIN:VEVENT
DTSTART;TZID=Europe/Paris:20231117T190000
DTEND;TZID=Europe/Paris:20231117T190000
DTSTAMP:20260419T235011
CREATED:20231112T154327Z
LAST-MODIFIED:20231112T154327Z
UID:7491-1700247600-1700247600@www.vitteaux.fr
SUMMARY:Conseil municipal
DESCRIPTION:Le conseil municipal se réunira le vendredi 17 novembre à 19h en mairie de Vitteaux (salle du conseil municipal). \nOrdre du jour : \n1- Communications \n2- SICECO – Groupement de commandes achat d’énergie\n \n3- Subvention Conseil départemental – Amendes de police 2024\n \n4- Modification de l’arrêté minute « rue Hubert Languet » \n5- Vente de biens grange Garraud\n \n6- Recensement 2024 – Validation des agents recenseurs\n \n7- Acquisition statue Sulky cour de la mairie\n \n8- Fixation critères d’appréciation valeur professionnelle\n \n9- Petites villes de demain – Convention centralité rurale en région \n10- Informations et questions diverses
URL:https://www.vitteaux.fr/evenement/conseil-municipal-14/
LOCATION:Mairie (salle du conseil municipal)\, 23 rue de l'Hôtel de Ville\, VITTEAUX\, 21350
CATEGORIES:Citoyennete
ORGANIZER;CN="Mairie":MAILTO:mairie-vitteaux@wanadoo.fr
END:VEVENT
END:VCALENDAR