BEGIN:VCALENDAR
VERSION:2.0
PRODID:-//Vitteaux - ECPv5.16.1//NONSGML v1.0//EN
CALSCALE:GREGORIAN
METHOD:PUBLISH
X-WR-CALNAME:Vitteaux
X-ORIGINAL-URL:https://www.vitteaux.fr
X-WR-CALDESC:évènements pour Vitteaux
BEGIN:VTIMEZONE
TZID:Europe/Paris
BEGIN:DAYLIGHT
TZOFFSETFROM:+0100
TZOFFSETTO:+0200
TZNAME:CEST
DTSTART:20250330T010000
END:DAYLIGHT
BEGIN:STANDARD
TZOFFSETFROM:+0200
TZOFFSETTO:+0100
TZNAME:CET
DTSTART:20251026T010000
END:STANDARD
END:VTIMEZONE
BEGIN:VEVENT
DTSTART;TZID=Europe/Paris:20250226T183000
DTEND;TZID=Europe/Paris:20250226T200000
DTSTAMP:20260419T160908
CREATED:20250216T082427Z
LAST-MODIFIED:20250216T082558Z
UID:9544-1740594600-1740600000@www.vitteaux.fr
SUMMARY:Conférence "Eau en voie de disparition"
DESCRIPTION:
URL:https://www.vitteaux.fr/evenement/conference-eau-en-voie-de-disparition/
LOCATION:Salle Guéniot
CATEGORIES:Culture
ORGANIZER;CN="EPAGE%20DE%20L%27ARMANCON":MAILTO:anim.zh@bassin-armacon.fr
END:VEVENT
END:VCALENDAR