BEGIN:VCALENDAR
VERSION:2.0
PRODID:-//Vitteaux - ECPv5.16.1//NONSGML v1.0//EN
CALSCALE:GREGORIAN
METHOD:PUBLISH
X-WR-CALNAME:Vitteaux
X-ORIGINAL-URL:https://www.vitteaux.fr
X-WR-CALDESC:évènements pour Vitteaux
BEGIN:VTIMEZONE
TZID:Europe/Paris
BEGIN:DAYLIGHT
TZOFFSETFROM:+0100
TZOFFSETTO:+0200
TZNAME:CEST
DTSTART:20230326T010000
END:DAYLIGHT
BEGIN:STANDARD
TZOFFSETFROM:+0200
TZOFFSETTO:+0100
TZNAME:CET
DTSTART:20231029T010000
END:STANDARD
END:VTIMEZONE
BEGIN:VEVENT
DTSTART;TZID=Europe/Paris:20230719T203000
DTEND;TZID=Europe/Paris:20230719T220000
DTSTAMP:20260419T175433
CREATED:20230712T141936Z
LAST-MODIFIED:20230712T142210Z
UID:6729-1689798600-1689804000@www.vitteaux.fr
SUMMARY:Concert Les Echos du Proche-Orient
DESCRIPTION:Le Centre International de Rencontres Culturelles de la Roche d’Hys (Massingy-les-Vitteaux) organise un concert « Les Echos du Proche Orient » le mercredi 19 juillet à 20h30 en l’église Saint Germain de Vitteaux. \nRéservations : circ.concerts@gmail.com
URL:https://www.vitteaux.fr/evenement/concert-les-echos-du-proche-orient/
LOCATION:Eglise Saint-Germain\, Place Chanoine Millot\, Vitteaux\, 21350
CATEGORIES:Culture
END:VEVENT
END:VCALENDAR