BEGIN:VCALENDAR
VERSION:2.0
PRODID:-//Vitteaux - ECPv5.16.1//NONSGML v1.0//EN
CALSCALE:GREGORIAN
METHOD:PUBLISH
X-WR-CALNAME:Vitteaux
X-ORIGINAL-URL:https://www.vitteaux.fr
X-WR-CALDESC:évènements pour Vitteaux
BEGIN:VTIMEZONE
TZID:Europe/Paris
BEGIN:DAYLIGHT
TZOFFSETFROM:+0100
TZOFFSETTO:+0200
TZNAME:CEST
DTSTART:20240331T010000
END:DAYLIGHT
BEGIN:STANDARD
TZOFFSETFROM:+0200
TZOFFSETTO:+0100
TZNAME:CET
DTSTART:20241027T010000
END:STANDARD
END:VTIMEZONE
BEGIN:VEVENT
DTSTART;TZID=Europe/Paris:20241214T173000
DTEND;TZID=Europe/Paris:20241214T173000
DTSTAMP:20260419T194005
CREATED:20241212T062555Z
LAST-MODIFIED:20241212T062633Z
UID:9352-1734197400-1734197400@www.vitteaux.fr
SUMMARY:Concert de Noël Divertimento
DESCRIPTION:Le groupe vocal Divertimento se produira pour un concert de Noël ce samedi 14 décembre à 17h30 à la Chapelle de l’Hôpital.
URL:https://www.vitteaux.fr/evenement/concert-divertimento/
LOCATION:Chapelle de l’Hôpital\, place Dr Quignard\, VITTEAUX\, 21350\, France
CATEGORIES:Culture
END:VEVENT
END:VCALENDAR