BEGIN:VCALENDAR
VERSION:2.0
PRODID:-//Vitteaux - ECPv5.16.1//NONSGML v1.0//EN
CALSCALE:GREGORIAN
METHOD:PUBLISH
X-WR-CALNAME:Vitteaux
X-ORIGINAL-URL:https://www.vitteaux.fr
X-WR-CALDESC:évènements pour Vitteaux
BEGIN:VTIMEZONE
TZID:Europe/Paris
BEGIN:DAYLIGHT
TZOFFSETFROM:+0100
TZOFFSETTO:+0200
TZNAME:CEST
DTSTART:20250330T010000
END:DAYLIGHT
BEGIN:STANDARD
TZOFFSETFROM:+0200
TZOFFSETTO:+0100
TZNAME:CET
DTSTART:20251026T010000
END:STANDARD
END:VTIMEZONE
BEGIN:VEVENT
DTSTART;TZID=Europe/Paris:20250125T180000
DTEND;TZID=Europe/Paris:20250125T180000
DTSTAMP:20260419T143016
CREATED:20250110T064939Z
LAST-MODIFIED:20250113T193251Z
UID:9450-1737828000-1737828000@www.vitteaux.fr
SUMMARY:Concert de l'orchestre(s) de Haute Côte-d'Or
DESCRIPTION:L’Union Vittellienne se produira à Vitteaux le samedi 25 janvier à 18h au gymnase de l’espace Gilbert Mathieu pour un concert exceptionnel avec l’orchestre de Haute Côte-d’Or.
URL:https://www.vitteaux.fr/evenement/concert-des-orchestres-de-haute-cote-dor/
LOCATION:Gymnase
CATEGORIES:Culture
ORGANIZER;CN="Union%20Vittellienne":MAILTO:unionvittellienne@gmail.com
END:VEVENT
END:VCALENDAR