BEGIN:VCALENDAR
VERSION:2.0
PRODID:-//Vitteaux - ECPv5.16.1//NONSGML v1.0//EN
CALSCALE:GREGORIAN
METHOD:PUBLISH
X-WR-CALNAME:Vitteaux
X-ORIGINAL-URL:https://www.vitteaux.fr
X-WR-CALDESC:évènements pour Vitteaux
BEGIN:VTIMEZONE
TZID:Europe/Paris
BEGIN:DAYLIGHT
TZOFFSETFROM:+0100
TZOFFSETTO:+0200
TZNAME:CEST
DTSTART:20230326T010000
END:DAYLIGHT
BEGIN:STANDARD
TZOFFSETFROM:+0200
TZOFFSETTO:+0100
TZNAME:CET
DTSTART:20231029T010000
END:STANDARD
END:VTIMEZONE
BEGIN:VEVENT
DTSTART;TZID=Europe/Paris:20230506T210000
DTEND;TZID=Europe/Paris:20230506T210000
DTSTAMP:20260423T110122
CREATED:20230403T113501Z
LAST-MODIFIED:20230417T081232Z
UID:6262-1683406800-1683406800@www.vitteaux.fr
SUMMARY:Concert de l'Union Vittellienne
DESCRIPTION:  \n \nCette année\, en raison des travaux dans le complexe polyvalent Gilbert MATHIEU\, l’Union Vittellienne délocalise exceptionnellement son grand concert annuel à PRECY-SOUS-THIL (gymnase).
URL:https://www.vitteaux.fr/evenement/concert-de-lunion-vittellienne/
CATEGORIES:Culture
END:VEVENT
END:VCALENDAR