BEGIN:VCALENDAR
VERSION:2.0
PRODID:-//Vitteaux - ECPv5.16.1//NONSGML v1.0//EN
CALSCALE:GREGORIAN
METHOD:PUBLISH
X-WR-CALNAME:Vitteaux
X-ORIGINAL-URL:https://www.vitteaux.fr
X-WR-CALDESC:évènements pour Vitteaux
BEGIN:VTIMEZONE
TZID:Europe/Paris
BEGIN:DAYLIGHT
TZOFFSETFROM:+0100
TZOFFSETTO:+0200
TZNAME:CEST
DTSTART:20250330T010000
END:DAYLIGHT
BEGIN:STANDARD
TZOFFSETFROM:+0200
TZOFFSETTO:+0100
TZNAME:CET
DTSTART:20251026T010000
END:STANDARD
END:VTIMEZONE
BEGIN:VEVENT
DTSTART;TZID=Europe/Paris:20250510T210000
DTEND;TZID=Europe/Paris:20250510T210000
DTSTAMP:20260422T124500
CREATED:20250322T114157Z
LAST-MODIFIED:20250504T093325Z
UID:9676-1746910800-1746910800@www.vitteaux.fr
SUMMARY:Concert de l'Union Vittellienne
DESCRIPTION:Le grand concert annuel de l’Union Vittellienne aura lieu le samedi 10 mai à 21h à l’espace Gilbert Mathieu de VITTEAUX. \nOuverture des portes : 20h15 \nParticipation libre
URL:https://www.vitteaux.fr/evenement/concert-de-lunion-vittellienne-3/
LOCATION:Espace Gilbert MATHIEU
CATEGORIES:Culture
ORGANIZER;CN="Union%20Vittellienne":MAILTO:unionvittellienne@gmail.com
END:VEVENT
END:VCALENDAR