BEGIN:VCALENDAR
VERSION:2.0
PRODID:-//Vitteaux - ECPv5.16.1//NONSGML v1.0//EN
CALSCALE:GREGORIAN
METHOD:PUBLISH
X-WR-CALNAME:Vitteaux
X-ORIGINAL-URL:https://www.vitteaux.fr
X-WR-CALDESC:évènements pour Vitteaux
BEGIN:VTIMEZONE
TZID:Europe/Paris
BEGIN:DAYLIGHT
TZOFFSETFROM:+0100
TZOFFSETTO:+0200
TZNAME:CEST
DTSTART:20240331T010000
END:DAYLIGHT
BEGIN:STANDARD
TZOFFSETFROM:+0200
TZOFFSETTO:+0100
TZNAME:CET
DTSTART:20241027T010000
END:STANDARD
END:VTIMEZONE
BEGIN:VEVENT
DTSTART;TZID=Europe/Paris:20240504T210000
DTEND;TZID=Europe/Paris:20240504T210000
DTSTAMP:20260422T191233
CREATED:20240204T191503Z
LAST-MODIFIED:20240430T193309Z
UID:7987-1714856400-1714856400@www.vitteaux.fr
SUMMARY:Concert de l'Union Vittellienne
DESCRIPTION:Le grand concert annuel de l’Union Vittellienne aura lieu le samedi 4 mai à 21h au gymnase de PRECY-SOUS-THIL (en raison des travaux au gymnase de Vitteaux). \nLes musiciens vous attendent nombreux pour passer une soirée mémorable. \nEntrée libre \n  \nVous pourrez également retrouver l’Union Vittellienne en concert aux dates et lieux suivants : \nsamedi 18 mai – 20h – Alise Sainte Reine – MuseoParc \nsamedi 1er juin – 21h – Montberthault \nsamedi 8 juin – 21h – Semur-en-Auxois – Collégiale \nsamedi 15 juin – 20h30 – Chateauneuf – sur la place \nsamedi 22 juin – 20h30 – Soussey-sur-Brionne – Château \nsamedi 29 juin – 21h – Saint Thibault – Eglise \n 
URL:https://www.vitteaux.fr/evenement/concert-de-lunion-vittellienne-2/
CATEGORIES:Culture
ORGANIZER;CN="Union%20Vittellienne":MAILTO:unionvittellienne@gmail.com
END:VEVENT
END:VCALENDAR