BEGIN:VCALENDAR
VERSION:2.0
PRODID:-//Vitteaux - ECPv5.16.1//NONSGML v1.0//EN
CALSCALE:GREGORIAN
METHOD:PUBLISH
X-WR-CALNAME:Vitteaux
X-ORIGINAL-URL:https://www.vitteaux.fr
X-WR-CALDESC:évènements pour Vitteaux
BEGIN:VTIMEZONE
TZID:Europe/Paris
BEGIN:DAYLIGHT
TZOFFSETFROM:+0100
TZOFFSETTO:+0200
TZNAME:CEST
DTSTART:20230326T010000
END:DAYLIGHT
BEGIN:STANDARD
TZOFFSETFROM:+0200
TZOFFSETTO:+0100
TZNAME:CET
DTSTART:20231029T010000
END:STANDARD
END:VTIMEZONE
BEGIN:VEVENT
DTSTART;TZID=Europe/Paris:20230215T153000
DTEND;TZID=Europe/Paris:20230215T153000
DTSTAMP:20260425T212622
CREATED:20230126T205621Z
LAST-MODIFIED:20230126T205850Z
UID:5892-1676475000-1676475000@www.vitteaux.fr
SUMMARY:Collecte de sang
DESCRIPTION:La collecte de sang a lieu ce mercredi 15 février à partir de 15h30 à l’espace Gilbert MATHIEU (Salle polyvalente). \n 
URL:https://www.vitteaux.fr/evenement/collecte-de-sang-5/
LOCATION:Salle polyvalente\, 6 Chemin des Dames\, VITTEAUX\, Cote d'or\, 21350\, France
CATEGORIES:Solidarité
ORGANIZER;CN="Association%20pour%20le%20don%20de%20sang%20b%C3%A9n%C3%A9vole":MAILTO:amicaledonneursvitteaux@outlook.fr
END:VEVENT
END:VCALENDAR