BEGIN:VCALENDAR
VERSION:2.0
PRODID:-//Vitteaux - ECPv5.16.1//NONSGML v1.0//EN
CALSCALE:GREGORIAN
METHOD:PUBLISH
X-WR-CALNAME:Vitteaux
X-ORIGINAL-URL:https://www.vitteaux.fr
X-WR-CALDESC:évènements pour Vitteaux
BEGIN:VTIMEZONE
TZID:Europe/Paris
BEGIN:DAYLIGHT
TZOFFSETFROM:+0100
TZOFFSETTO:+0200
TZNAME:CEST
DTSTART:20250330T010000
END:DAYLIGHT
BEGIN:STANDARD
TZOFFSETFROM:+0200
TZOFFSETTO:+0100
TZNAME:CET
DTSTART:20251026T010000
END:STANDARD
END:VTIMEZONE
BEGIN:VEVENT
DTSTART;TZID=Europe/Paris:20250129T153000
DTEND;TZID=Europe/Paris:20250129T190000
DTSTAMP:20260419T174539
CREATED:20250119T151717Z
LAST-MODIFIED:20250119T151717Z
UID:9493-1738164600-1738177200@www.vitteaux.fr
SUMMARY:Collecte de sang
DESCRIPTION:La prochaine collecte de sang a lieu mercredi 29 janvier de 15h30 à 19h à l’espace Gilbert Mathieu (salle polyvalente).\n \nVous pouvez prendre rendez-vous directement sur le site de l’Établissement Français du sang (en cliquant ici).
URL:https://www.vitteaux.fr/evenement/collecte-de-sang-17/
LOCATION:Espace Gilbert MATHIEU
CATEGORIES:Solidarité
ORGANIZER;CN="Association%20pour%20le%20don%20de%20sang%20b%C3%A9n%C3%A9vole":MAILTO:amicaledonneursvitteaux@outlook.fr
END:VEVENT
END:VCALENDAR